BEGIN:VCALENDAR
VERSION:2.0
PRODID:-//Fergus/Elora - Grand and Gorgeous - ECPv5.16.3//NONSGML v1.0//EN
CALSCALE:GREGORIAN
METHOD:PUBLISH
X-WR-CALNAME:Fergus/Elora - Grand and Gorgeous
X-ORIGINAL-URL:https://grandandgorgeous.com
X-WR-CALDESC:Events for Fergus/Elora - Grand and Gorgeous
BEGIN:VTIMEZONE
TZID:America/Toronto
BEGIN:DAYLIGHT
TZOFFSETFROM:-0500
TZOFFSETTO:-0400
TZNAME:EDT
DTSTART:20220313T070000
END:DAYLIGHT
BEGIN:STANDARD
TZOFFSETFROM:-0400
TZOFFSETTO:-0500
TZNAME:EST
DTSTART:20221106T060000
END:STANDARD
END:VTIMEZONE
BEGIN:VEVENT
DTSTART;TZID=America/Toronto:20220603T180000
DTEND;TZID=America/Toronto:20220603T220000
DTSTAMP:20260424T114832
CREATED:20220527T140402Z
LAST-MODIFIED:20220603T151331Z
UID:5775-1654279200-1654293600@grandandgorgeous.com
SUMMARY:Opening night at Grand River Raceway
DESCRIPTION:There is nothing like the sound of horse hooves\, jockeying for position on the harness racing track\, vying for the win.\nAnd there is no better view of a racetrack to take it all in than Grand River Raceway. \nCatch live horse racing every Monday\, Wednesday and Friday night beginning June 3 to September 26. \n\n\n\nEvery night is free for all. Kids can participate in the Neighbourhood Group Scavenger hunt with great prizes to be won. \n\n\n\nGet to the rail and cheer! Win\, Place or Show – it’s exciting! \nBut be sure to come back again\, because this summer\, there is even more to look forward too: \n\n\n\nFood Truck Fridays – Beginning June 24\, every Friday night at the races will be Food Truck Fridays!  Come check out the local favourite Food Trucks that pull up and bring a variety of foods choices to keep it interesting!  \ \nMusic and racing? You bet! Entertainment every Thursday night starts June 24\, with live performances on the The GrandWay Patio. Summer nights sound great here. \n  \n\n\n\nShareTweet
URL:https://grandandgorgeous.com/event/opening-night-at-grand-river-raceway/
LOCATION:Grand River Raceway\, 7445 Wellington County Rd. 21\, Elora\, ON\, N0B 1S0\, Canada
CATEGORIES:Grand River Raceway
ATTACH;FMTTYPE=image/jpeg:https://grandandgorgeous.com/wp-content/uploads/HERO_RACING-horses-4-web-submitted.jpg
GEO:43.6738098;-80.4318207
X-APPLE-STRUCTURED-LOCATION;VALUE=URI;X-ADDRESS=Grand River Raceway 7445 Wellington County Rd. 21 Elora ON N0B 1S0 Canada;X-APPLE-RADIUS=500;X-TITLE=7445 Wellington County Rd. 21:geo:-80.4318207,43.6738098
END:VEVENT
END:VCALENDAR