BEGIN:VCALENDAR
VERSION:2.0
PRODID:-//Fergus/Elora - Grand and Gorgeous - ECPv5.16.3//NONSGML v1.0//EN
CALSCALE:GREGORIAN
METHOD:PUBLISH
X-WR-CALNAME:Fergus/Elora - Grand and Gorgeous
X-ORIGINAL-URL:https://grandandgorgeous.com
X-WR-CALDESC:Events for Fergus/Elora - Grand and Gorgeous
BEGIN:VTIMEZONE
TZID:America/Toronto
BEGIN:DAYLIGHT
TZOFFSETFROM:-0500
TZOFFSETTO:-0400
TZNAME:EDT
DTSTART:20180311T070000
END:DAYLIGHT
BEGIN:STANDARD
TZOFFSETFROM:-0400
TZOFFSETTO:-0500
TZNAME:EST
DTSTART:20181104T060000
END:STANDARD
END:VTIMEZONE
BEGIN:VEVENT
DTSTART;TZID=America/Toronto:20180324T200000
DTEND;TZID=America/Toronto:20180324T220000
DTSTAMP:20260422T045851
CREATED:20180322T164224Z
LAST-MODIFIED:20180515T182013Z
UID:2294-1521921600-1521928800@grandandgorgeous.com
SUMMARY:Sean McCann - There's a place called Fergus!
DESCRIPTION:Séan McCann\, acclaimed singer-songwriter\, JUNO Award nominee\, and mental health advocate\, is taking his music and his message on the road. One of his stops will be the Fergus Grand Theatre on March 24. \nAs a founding member of internationally renowned folk group Great Big Sea\, McCann chose to forge his own path five years ago and use his music to help him heal from an alcohol addiction that masked his secret of sexual abuse during his teens. \nIn 2018\, McCann will play a 29-city tour supporting his fifth solo album\, There’s a Place\, that sees him taking another step forward in his recovery\, but a step back to his traditional musical roots. \nMcCann’s musical message is now more than just notes and melodies. There’s a Place is a cleansing of sorts. \nHis last two solo albums\, Help Your Self and You Know I Love You\, were a large musical departure from his Great Big Sea beginnings. \nIn his latest release\, he brings together his roots and his message on 11 tracks sung by a man who knows his purpose\, who embraces his past\, but refuses to let it define him. \nMcCann also worked with artist/designer Jenna Gregory on There’s a Place: A Colouring Book Companion\, which accompanies the album as an interactive creative outlet for fans. \n\n\n\n\n\n\n  \nReserve your seats online or by calling the box office a 519-846-9691 ext. 201. \n\n\n\n\n\n\n\n\n\n\n\nShareTweet
URL:https://grandandgorgeous.com/event/sean-mccann-theres-a-place-called-fergus/
LOCATION:Fergus Grand Theatre\, 244 St Andrew St W\, Fergus\, ON\, N1M 1N7\, Canada
CATEGORIES:Arts & Entertainment
GEO:43.7040736;-80.3790735
X-APPLE-STRUCTURED-LOCATION;VALUE=URI;X-ADDRESS=Fergus Grand Theatre 244 St Andrew St W Fergus ON N1M 1N7 Canada;X-APPLE-RADIUS=500;X-TITLE=244 St Andrew St W:geo:-80.3790735,43.7040736
END:VEVENT
END:VCALENDAR