BEGIN:VCALENDAR
VERSION:2.0
PRODID:-//Fergus/Elora - Grand and Gorgeous - ECPv5.16.3//NONSGML v1.0//EN
CALSCALE:GREGORIAN
METHOD:PUBLISH
X-WR-CALNAME:Fergus/Elora - Grand and Gorgeous
X-ORIGINAL-URL:https://grandandgorgeous.com
X-WR-CALDESC:Events for Fergus/Elora - Grand and Gorgeous
BEGIN:VTIMEZONE
TZID:America/Toronto
BEGIN:DAYLIGHT
TZOFFSETFROM:-0500
TZOFFSETTO:-0400
TZNAME:EDT
DTSTART:20220313T070000
END:DAYLIGHT
BEGIN:STANDARD
TZOFFSETFROM:-0400
TZOFFSETTO:-0500
TZNAME:EST
DTSTART:20221106T060000
END:STANDARD
END:VTIMEZONE
BEGIN:VEVENT
DTSTART;TZID=America/Toronto:20220507T090000
DTEND;TZID=America/Toronto:20220507T130000
DTSTAMP:20260425T070019
CREATED:20220527T141835Z
LAST-MODIFIED:20220614T200144Z
UID:5779-1651914000-1651928400@grandandgorgeous.com
SUMMARY:The Elora Farmers' Market
DESCRIPTION:Saturday mornings begin with a forage for fun\, friends and food!\nFind fresh locally grown produce\, locally raised meats\, home-baked treats and artisan products too.\nCome enjoy coffee\, make new friends and meet the farmers who feed us. \nBeginning May 7\, bring your own bags\, head down to the river by beautiful Bissell Park and come be a part of our special community every Saturday morning until Late October. \n 
URL:https://grandandgorgeous.com/event/the-elora-farmers-market/2022-05-07/
LOCATION:Bissell Park\, 127 E Mill St\, Elora\, ON\, N0B 1S0\, Canada
ATTACH;FMTTYPE=image/jpeg:https://grandandgorgeous.com/wp-content/uploads/colourfulveggies-blweb.jpg
END:VEVENT
END:VCALENDAR