BEGIN:VCALENDAR
VERSION:2.0
PRODID:-//Fergus/Elora - Grand and Gorgeous - ECPv5.16.3//NONSGML v1.0//EN
CALSCALE:GREGORIAN
METHOD:PUBLISH
X-WR-CALNAME:Fergus/Elora - Grand and Gorgeous
X-ORIGINAL-URL:https://grandandgorgeous.com
X-WR-CALDESC:Events for Fergus/Elora - Grand and Gorgeous
BEGIN:VTIMEZONE
TZID:America/Toronto
BEGIN:DAYLIGHT
TZOFFSETFROM:-0500
TZOFFSETTO:-0400
TZNAME:EDT
DTSTART:20220313T070000
END:DAYLIGHT
BEGIN:STANDARD
TZOFFSETFROM:-0400
TZOFFSETTO:-0500
TZNAME:EST
DTSTART:20221106T060000
END:STANDARD
END:VTIMEZONE
BEGIN:VEVENT
DTSTART;VALUE=DATE:20221001
DTEND;VALUE=DATE:20221031
DTSTAMP:20260424T234649
CREATED:20220530T160403Z
LAST-MODIFIED:20220530T160403Z
UID:5923-1664582400-1667174399@grandandgorgeous.com
SUMMARY:October is Monster Month in Elora
DESCRIPTION:The Monsters take over Elora every October. Look around. Find them before they find you! Monster Month makes the village an imaginative place that celebrates all this Halloween. There is so much going on\, with family-friendly festivities to join in the spooky fun. Dress up and join your fellow monsters for the annual Monster March Parade through the streets on October 22\, 2022.. This month is loaded with fun. \nDon’t miss out on the fun or it just haunt you. \nVisit monstermonth.ca for current activities.
URL:https://grandandgorgeous.com/event/october-is-monster-month-in-elora/
LOCATION:Monster Month Elora\, Elora\, N0B 1S0\, Canada
CATEGORIES:Arts & Entertainment,Community,experience
ATTACH;FMTTYPE=image/jpeg:https://grandandgorgeous.com/wp-content/uploads/SpiderMonster-Elora-MR-web.jpg
END:VEVENT
BEGIN:VEVENT
DTSTART;TZID=America/Toronto:20221022T183000
DTEND;TZID=America/Toronto:20221022T193000
DTSTAMP:20260424T234649
CREATED:20220530T163219Z
LAST-MODIFIED:20220601T203610Z
UID:5927-1666463400-1666467000@grandandgorgeous.com
SUMMARY:Monster March
DESCRIPTION:Once a year\, there is a gathering here that brings out the magical and fantastical among us\, to celebrate the Halloween season\, and you are invited to join. \nThe Monsters March gathers all those who enjoy the spirit of the season and sends them meandering through the heart of downtown Elora en mass. It’s a spectacle to see\, but even more fun if you take part in it.\nBring the family … er\, your monsters … and get ready to have fun with your fellow monsters. \n 
URL:https://grandandgorgeous.com/event/monster-march/
LOCATION:Monster Month Elora\, Elora\, N0B 1S0\, Canada
ATTACH;FMTTYPE=image/jpeg:https://grandandgorgeous.com/wp-content/uploads/MonsterMarch16-JM-WEB.jpg
END:VEVENT
END:VCALENDAR