BEGIN:VCALENDAR
VERSION:2.0
PRODID:-//Fergus/Elora - Grand and Gorgeous - ECPv5.16.3//NONSGML v1.0//EN
CALSCALE:GREGORIAN
METHOD:PUBLISH
X-WR-CALNAME:Fergus/Elora - Grand and Gorgeous
X-ORIGINAL-URL:https://grandandgorgeous.com
X-WR-CALDESC:Events for Fergus/Elora - Grand and Gorgeous
BEGIN:VTIMEZONE
TZID:America/Toronto
BEGIN:DAYLIGHT
TZOFFSETFROM:-0500
TZOFFSETTO:-0400
TZNAME:EDT
DTSTART:20230312T070000
END:DAYLIGHT
BEGIN:STANDARD
TZOFFSETFROM:-0400
TZOFFSETTO:-0500
TZNAME:EST
DTSTART:20231105T060000
END:STANDARD
END:VTIMEZONE
BEGIN:VEVENT
DTSTART;TZID=America/Toronto:20230330T080000
DTEND;TZID=America/Toronto:20230611T170000
DTSTAMP:20260424T105701
CREATED:20230519T155318Z
LAST-MODIFIED:20230526T173747Z
UID:7191-1680163200-1686502800@grandandgorgeous.com
SUMMARY:Insights Juried Art Exhibition
DESCRIPTION:As the longest running regional juried art show remaining in Ontario\, this exhibit will amaze and inspire. Don’t miss what is sure to be another amazing show\, hosted by the Wellington County Museum. \nThe 42nd Insights Juried Exhibition of Fine Art runs from March 30\, 2023 – June 11\, 2023. \nInsights encourages and honours excellence\, high levels of accomplishment\, and innovative approaches to artistic expression in the work of local artists. Jurors are drawn from the ranks of top art professionals\, educators and curators. Collaboration with the Wellington County Museum and Archives makes it possible to present the show in beautiful surroundings and in a wonderful gallery. \ninsightsart.ca
URL:https://grandandgorgeous.com/event/insights-juried-art-exhibition/
CATEGORIES:Arts & Entertainment,Community,experience
ATTACH;FMTTYPE=image/png:https://grandandgorgeous.com/wp-content/uploads/INSIGHTS-LOGO.png
END:VEVENT
BEGIN:VEVENT
DTSTART;TZID=America/Toronto:20230506T090000
DTEND;TZID=America/Toronto:20231007T130000
DTSTAMP:20260424T105701
CREATED:20230525T141729Z
LAST-MODIFIED:20230526T173436Z
UID:7240-1683363600-1696683600@grandandgorgeous.com
SUMMARY:Elora Farmers' Market
DESCRIPTION:Farmers\, Artisans\, Bakers\, and Makers. When the spring air warms the ground\, The Elora Farmers’ Market returns to Bissell Park with fresh locally grown produce\, meats and sweet treats too. You’ll meet the best people here. Bring your own bags and come be a part of the community every Saturday morning (9:00 – 1:00) until late October. \nelorafarmersmarket.ca \n 
URL:https://grandandgorgeous.com/event/elora-farmers-market/
LOCATION:Bissell Park\, 127 E Mill St\, Elora\, ON\, N0B 1S0\, Canada
CATEGORIES:Community,experience,Food,Local Business,Shopping
ATTACH;FMTTYPE=image/png:https://grandandgorgeous.com/wp-content/uploads/FARMERS-MARKET-LOGO.png
END:VEVENT
BEGIN:VEVENT
DTSTART;TZID=America/Toronto:20230602T150000
DTEND;TZID=America/Toronto:20230603T220000
DTSTAMP:20260424T105701
CREATED:20230518T210446Z
LAST-MODIFIED:20230526T191721Z
UID:7182-1685718000-1685829600@grandandgorgeous.com
SUMMARY:Meadows Music Festival
DESCRIPTION:Fergus invites you to let your hair down for the inaugural Meadows Festival in the fields behind the Centre Wellington Sportsplex. Over two days – June 2nd and 3rd – Farm League Brewing will be hosting an exciting line up of live performances by The Sheepdogs\, James Barker band\, Jade Eagleson\, Sloan and the Blue Stones\, to name a few. \nKick off the summer with a cold one and stay into the evening for some sweater weather and groovy tunes. The festival will offer an array of local vendors\, serving up delicious food and drinks throughout the event. \nAll ages are welcome and children under 12 get in free with a ticket holding adult. The entire festival grounds are licensed for attendees 19 and older\, so let the good times roll with music\, food and great company. As the weather warms up\, be sure to join the party at the first ever Meadows Music Festival. \nmeadowsfest.ca
URL:https://grandandgorgeous.com/event/meadows-music-festival/
LOCATION:Centre Wellington Community Sportsplex\, 550 Belsyde Ave. E.\, Fergus\, ON\, N1M 2P7\, Canada
CATEGORIES:Arts & Entertainment,Community,experience,Festival,Food,Shopping
ATTACH;FMTTYPE=image/png:https://grandandgorgeous.com/wp-content/uploads/MEADOWS-FESTIVAL-LOGO-1.png
GEO:43.7065942;-80.3596605
X-APPLE-STRUCTURED-LOCATION;VALUE=URI;X-ADDRESS=Centre Wellington Community Sportsplex 550 Belsyde Ave. E. Fergus ON N1M 2P7 Canada;X-APPLE-RADIUS=500;X-TITLE=550 Belsyde Ave. E.:geo:-80.3596605,43.7065942
END:VEVENT
END:VCALENDAR