BEGIN:VCALENDAR
VERSION:2.0
PRODID:-//Fergus/Elora - Grand and Gorgeous - ECPv5.16.3//NONSGML v1.0//EN
CALSCALE:GREGORIAN
METHOD:PUBLISH
X-WR-CALNAME:Fergus/Elora - Grand and Gorgeous
X-ORIGINAL-URL:https://grandandgorgeous.com
X-WR-CALDESC:Events for Fergus/Elora - Grand and Gorgeous
BEGIN:VTIMEZONE
TZID:America/Toronto
BEGIN:DAYLIGHT
TZOFFSETFROM:-0500
TZOFFSETTO:-0400
TZNAME:EDT
DTSTART:20230312T070000
END:DAYLIGHT
BEGIN:STANDARD
TZOFFSETFROM:-0400
TZOFFSETTO:-0500
TZNAME:EST
DTSTART:20231105T060000
END:STANDARD
END:VTIMEZONE
BEGIN:VEVENT
DTSTART;TZID=America/Toronto:20230506T090000
DTEND;TZID=America/Toronto:20231007T130000
DTSTAMP:20260424T090232
CREATED:20230525T141729Z
LAST-MODIFIED:20230526T173436Z
UID:7240-1683363600-1696683600@grandandgorgeous.com
SUMMARY:Elora Farmers' Market
DESCRIPTION:Farmers\, Artisans\, Bakers\, and Makers. When the spring air warms the ground\, The Elora Farmers’ Market returns to Bissell Park with fresh locally grown produce\, meats and sweet treats too. You’ll meet the best people here. Bring your own bags and come be a part of the community every Saturday morning (9:00 – 1:00) until late October. \nelorafarmersmarket.ca \n 
URL:https://grandandgorgeous.com/event/elora-farmers-market/
LOCATION:Bissell Park\, 127 E Mill St\, Elora\, ON\, N0B 1S0\, Canada
CATEGORIES:Community,experience,Food,Local Business,Shopping
ATTACH;FMTTYPE=image/png:https://grandandgorgeous.com/wp-content/uploads/FARMERS-MARKET-LOGO.png
END:VEVENT
BEGIN:VEVENT
DTSTART;TZID=America/Toronto:20230705T170000
DTEND;TZID=America/Toronto:20230830T210000
DTSTAMP:20260424T090232
CREATED:20230525T165015Z
LAST-MODIFIED:20230526T172838Z
UID:7272-1688576400-1693429200@grandandgorgeous.com
SUMMARY:Twilight at Templin Concerts
DESCRIPTION:Live music by the river makes the Twilight at Templin concerts every Wednesday night all summer long a family-friendly night of relaxation and great music under the summer sun. \nLocal Musicians playing in their own backyard! Songs and stories from home. \nHandmade Night market from 5pm to 9pm \nGroovy Grilled Cheese Food Truck will be serving from 5pm to 9pm weekly. (Except July 12th and August 30th) \ntwilightattemplin.com \n 
URL:https://grandandgorgeous.com/event/twilight-at-templin-concerts/
LOCATION:Templin Gardens\, Fergus\, Ontario\, N1M1N7\, Canada
CATEGORIES:Arts & Entertainment,Community,Downtown Fergus,experience,Food,Shopping
ATTACH;FMTTYPE=image/png:https://grandandgorgeous.com/wp-content/uploads/TEMPLIN-LOGO.png
GEO:43.7043083;-80.3785656
END:VEVENT
BEGIN:VEVENT
DTSTART;TZID=America/Toronto:20230707T193000
DTEND;TZID=America/Toronto:20230718T220000
DTSTAMP:20260424T090232
CREATED:20230525T135627Z
LAST-MODIFIED:20230526T172810Z
UID:7231-1688758200-1689717600@grandandgorgeous.com
SUMMARY:The Elora Festival
DESCRIPTION:For over 40 years\, the Elora Festival has expanded our musical horizons as Canada’s international choral festival. Celebrating a diverse spectrum of musical genres\, including classical\, international music\, jazz and folk\, each year their lineup features an impressive line-up of artists and dynamic musical experiences\, making the Elora Festival a highlight of the summer season. \nThe hallmark of the festival is The Elora Singers (July 12th @ 9pm)\, our very own JUNO-nominated ensemble-in-residence. Hailed as one of Canada’s finest professional chamber choirs\, their voices have established musical bar for the caliber of talent that graces the Elora Festival stage. www.elorasingers.ca \nThe Elora Festival has welcomed renowned Canadian and international talent\, from the Vancouver Chamber Choir\, the Trinity College Choir\, Chanticleer\, Studio de musique ancienne de Montréal\, the State Choir LATVIJA to name a few. It has also welcomed lyrical legends like Gordon Lightfoot\, Sarah McLachlan\, Chantal Kreviazuk\, Buffy Sainte-Marie\, Sarah Slean and Measha Brueggergosman. \nWhen the Elora Festival is on\, Elora sounds beautiful. For the full line-up of artists and performances visit elorafestival.ca \n 
URL:https://grandandgorgeous.com/event/the-elora-festival-2/
LOCATION:Elora\, Elora\, ON\, Canada
CATEGORIES:Arts & Entertainment,Community,experience,Festival
ATTACH;FMTTYPE=image/png:https://grandandgorgeous.com/wp-content/uploads/ELORA-SINGERS-LOGO.png
GEO:43.683715;-80.4305427
END:VEVENT
END:VCALENDAR