BEGIN:VCALENDAR
VERSION:2.0
PRODID:-//Fergus/Elora - Grand and Gorgeous - ECPv5.16.3//NONSGML v1.0//EN
CALSCALE:GREGORIAN
METHOD:PUBLISH
X-WR-CALNAME:Fergus/Elora - Grand and Gorgeous
X-ORIGINAL-URL:https://grandandgorgeous.com
X-WR-CALDESC:Events for Fergus/Elora - Grand and Gorgeous
BEGIN:VTIMEZONE
TZID:America/Toronto
BEGIN:DAYLIGHT
TZOFFSETFROM:-0500
TZOFFSETTO:-0400
TZNAME:EDT
DTSTART:20240310T070000
END:DAYLIGHT
BEGIN:STANDARD
TZOFFSETFROM:-0400
TZOFFSETTO:-0500
TZNAME:EST
DTSTART:20241103T060000
END:STANDARD
END:VTIMEZONE
BEGIN:VEVENT
DTSTART;TZID=America/Toronto:20240816T150000
DTEND;TZID=America/Toronto:20240818T230000
DTSTAMP:20260423T080539
CREATED:20230518T182457Z
LAST-MODIFIED:20240628T162031Z
UID:7055-1723820400-1724022000@grandandgorgeous.com
SUMMARY:Riverfest Elora 2024 - Three day summer festival
DESCRIPTION:Centre Wellington’s “little-big” music and arts festival by the river\, is back! Riverfest Elora’s 14th edition sees its run as one of Canada’s premier festivals continue\, offering top-tier headliners\, exciting up-and-comers\, acts of all genres\, local artisans\, food trucks and craft brews\, all within a majestically natural setting along the banks of the famed Grand River in Elora — Ontario’s most beautiful village. \n2024 Lineup – We’re back with another incredible lineup for our lucky number year 14 with three stages and over 50 local\, national\, and international acts\, from household names\, to eclectic acts to rising stars. Find your new favourite artist beneath the warm summer sun or the sparkling canopy of the night sky. \nWe can’t guarantee you’ll get much sleep Riverfest weekend\, but we’ve got plenty of places to stay — from cliffside campsites to cozy hotels and B&B’s. \nriverfestelora.com \n  \n  \nRiverfest Elora in 2016.Submitted photo\nThe Beaches took the pages of Riverfest Elora in 2018.Photo by Wellington Advertiser.
URL:https://grandandgorgeous.com/event/riverfest-elora-2023-3-day-summer-festival/
LOCATION:Bissell Park\, 127 E Mill St\, Elora\, ON\, N0B 1S0\, Canada
CATEGORIES:Arts & Entertainment,Community,experience,Festival
ATTACH;FMTTYPE=image/png:https://grandandgorgeous.com/wp-content/uploads/rf2024-3.png
END:VEVENT
END:VCALENDAR