BEGIN:VCALENDAR
VERSION:2.0
PRODID:-//Fergus/Elora - Grand and Gorgeous - ECPv5.16.3//NONSGML v1.0//EN
CALSCALE:GREGORIAN
METHOD:PUBLISH
X-WR-CALNAME:Fergus/Elora - Grand and Gorgeous
X-ORIGINAL-URL:https://grandandgorgeous.com
X-WR-CALDESC:Events for Fergus/Elora - Grand and Gorgeous
BEGIN:VTIMEZONE
TZID:America/Toronto
BEGIN:DAYLIGHT
TZOFFSETFROM:-0500
TZOFFSETTO:-0400
TZNAME:EDT
DTSTART:20230312T070000
END:DAYLIGHT
BEGIN:STANDARD
TZOFFSETFROM:-0400
TZOFFSETTO:-0500
TZNAME:EST
DTSTART:20231105T060000
END:STANDARD
END:VTIMEZONE
BEGIN:VEVENT
DTSTART;TZID=America/Toronto:20230813T200000
DTEND;TZID=America/Toronto:20231029T210000
DTSTAMP:20260423T182859
CREATED:20230526T190953Z
LAST-MODIFIED:20230526T190953Z
UID:7413-1691956800-1698613200@grandandgorgeous.com
SUMMARY:Fergus Ghost Walk
DESCRIPTION:Fergus gets into the spirit of Halloween with their downtown Halloween Haunt Walk for the kids\, and by night\, the Fergus Ghost Walks. Ghost stories in real time! Watch out for the shadows. \nLantern walk and guided tour of the mysteries and histories of one of Canada’s most haunted villages. Tours start at The Bookery. \ndowntownfergus.com \n    \n  \n  \n 
URL:https://grandandgorgeous.com/event/fergus-ghost-walk/
LOCATION:Downtown Fergus\, 91 St Andrew Street West\, Fergus\, ON\, N1M 1N6\, Canada
CATEGORIES:Arts & Entertainment,Community,Downtown Fergus,experience,Local Business,Shopping
ATTACH;FMTTYPE=image/jpeg:https://grandandgorgeous.com/wp-content/uploads/FERGUS-GHOST-WALK-LOGO.jpg
END:VEVENT
BEGIN:VEVENT
DTSTART;TZID=America/Toronto:20231001T170000
DTEND;TZID=America/Toronto:20231031T210000
DTSTAMP:20260423T182859
CREATED:20230530T154742Z
LAST-MODIFIED:20230530T185602Z
UID:7439-1696179600-1698786000@grandandgorgeous.com
SUMMARY:Monster Month
DESCRIPTION:The Monsters take over Elora every October. Keep your eyes sharp and find them before they find you! Monster Month transforms the village into a spooky sight filled with creatures of all kinds just in time for Halloween. \nFor nearly two decades\, Tim Murton’s Twilight Zoo has been decorating the streets of Elora with a unique collection of lantern sculptures. During the month of October\, visitors started coming to Elora from all over Southern Ontario to see the display. Local artists\, community groups\, businesses and other organizations started adding themed events as popularity grew\, leading to the name “Monster Month in Elora.” \nSpooky-themed events and haunted offerings throughout Centre Wellington include a Self-Guided Tour\, Spirit and Ghost Walks\, Spooky Stables\, Lantern Tours\, Magicians and a non-motorized parade called “Monster March”. \nWe ask participants and viewers to please bring cash or donations for the Food Bank. \nmonstermonth.ca
URL:https://grandandgorgeous.com/event/monster-month-parade/
LOCATION:Elora\, Elora\, ON\, Canada
CATEGORIES:Arts & Entertainment,Community,experience,Food,History,Local Business,Shopping
ATTACH;FMTTYPE=image/png:https://grandandgorgeous.com/wp-content/uploads/MONSTER-MONTH-LOGO.png
GEO:43.683715;-80.4305427
END:VEVENT
BEGIN:VEVENT
DTSTART;TZID=America/Toronto:20231021T180000
DTEND;TZID=America/Toronto:20231021T200000
DTSTAMP:20260423T182859
CREATED:20230530T194638Z
LAST-MODIFIED:20230530T201504Z
UID:7463-1697911200-1697918400@grandandgorgeous.com
SUMMARY:Monster March
DESCRIPTION:With over 1\,000 participants\, the 2022 Monster March Parade was a spook-tacular event and a great opportunity to dress up and see Elora. Don’t be haunted by the thought of missing out this year. The free non-motorized parade sure to be a hit for the whole family (including pets!) The parade ends each year with free treats for everyone. \nJulie Denneny\, along with a crew of community volunteers brought the March to the streets in 2007 and it has been a main event during Monster Month ever since. Families (including pets!) are encouraged to dress up in their favourite costume and participate. \nWe ask participants and viewers to please bring cash or donations for the Food Bank. \nmonstermonth.ca
URL:https://grandandgorgeous.com/event/monster-march-2/
LOCATION:Elora\, Elora\, ON\, Canada
CATEGORIES:Arts & Entertainment,Community,experience,Local Business,Shopping
ATTACH;FMTTYPE=image/png:https://grandandgorgeous.com/wp-content/uploads/Screen-Shot-2023-05-30-at-4.13.40-PM.png
GEO:43.683715;-80.4305427
END:VEVENT
END:VCALENDAR