BEGIN:VCALENDAR
VERSION:2.0
PRODID:-//Fergus/Elora - Grand and Gorgeous - ECPv5.16.3//NONSGML v1.0//EN
CALSCALE:GREGORIAN
METHOD:PUBLISH
X-WR-CALNAME:Fergus/Elora - Grand and Gorgeous
X-ORIGINAL-URL:https://grandandgorgeous.com
X-WR-CALDESC:Events for Fergus/Elora - Grand and Gorgeous
BEGIN:VTIMEZONE
TZID:America/Toronto
BEGIN:DAYLIGHT
TZOFFSETFROM:-0500
TZOFFSETTO:-0400
TZNAME:EDT
DTSTART:20220313T070000
END:DAYLIGHT
BEGIN:STANDARD
TZOFFSETFROM:-0400
TZOFFSETTO:-0500
TZNAME:EST
DTSTART:20221106T060000
END:STANDARD
END:VTIMEZONE
BEGIN:VEVENT
DTSTART;TZID=America/Toronto:20221125T160000
DTEND;TZID=America/Toronto:20221125T210000
DTSTAMP:20260424T153125
CREATED:20221027T192303Z
LAST-MODIFIED:20221027T192303Z
UID:6667-1669392000-1669410000@grandandgorgeous.com
SUMMARY:Wellington County Museum's 2nd Annual Christmas Market
DESCRIPTION:The Wellington County Museum and Archives is thrilled to be hosting the Christmas Market for a second year! \nThe Christmas Market will take place on Friday\, November 25th from 4pm to 9 pm\, and Saturday\, November 26th from 12pm to 5pm. \nRing in the holiday season with a handmade market\, live musical entertainment\, delicious local food\, a visit from Santa Claus\, and more family fun!
URL:https://grandandgorgeous.com/event/wellington-county-museums-2nd-annual-christmas-market/
LOCATION:Wellington County Museum\, 0536 Wellington Rd 18\, Fergus\, ON\, N1M 2W3\, Canada
CATEGORIES:Arts & Entertainment,Community,experience,Shopping
ATTACH;FMTTYPE=image/png:https://grandandgorgeous.com/wp-content/uploads/Christmas-Market-image-small.png
GEO:43.6926165;-80.4037546
X-APPLE-STRUCTURED-LOCATION;VALUE=URI;X-ADDRESS=Wellington County Museum 0536 Wellington Rd 18 Fergus ON N1M 2W3 Canada;X-APPLE-RADIUS=500;X-TITLE=0536 Wellington Rd 18:geo:-80.4037546,43.6926165
END:VEVENT
END:VCALENDAR