BEGIN:VCALENDAR
VERSION:2.0
PRODID:-//Fergus/Elora - Grand and Gorgeous - ECPv5.16.3//NONSGML v1.0//EN
CALSCALE:GREGORIAN
METHOD:PUBLISH
X-WR-CALNAME:Fergus/Elora - Grand and Gorgeous
X-ORIGINAL-URL:https://grandandgorgeous.com
X-WR-CALDESC:Events for Fergus/Elora - Grand and Gorgeous
BEGIN:VTIMEZONE
TZID:America/Toronto
BEGIN:DAYLIGHT
TZOFFSETFROM:-0500
TZOFFSETTO:-0400
TZNAME:EDT
DTSTART:20230312T070000
END:DAYLIGHT
BEGIN:STANDARD
TZOFFSETFROM:-0400
TZOFFSETTO:-0500
TZNAME:EST
DTSTART:20231105T060000
END:STANDARD
END:VTIMEZONE
BEGIN:VEVENT
DTSTART;TZID=America/Toronto:20230415T080000
DTEND;TZID=America/Toronto:20230416T170000
DTSTAMP:20260424T073323
CREATED:20230519T160555Z
LAST-MODIFIED:20230526T173556Z
UID:7196-1681545600-1681664400@grandandgorgeous.com
SUMMARY:The Elora Vintage and Antique Show
DESCRIPTION:The Elora Vintage and Antique Show is well worth planning for. Mark your calendar for a special spring weekend in Elora that will bring out the treasure hunter in you. Stop by the Elora Community Centre where you’ll discover a trove of unique finds including vintage fashion items and jewelry\, fine dishes and home décor\, art pieces and collectables and much more. \nThe April antique show and sale in Elora is an annual highlight for collectors from Toronto to Windsor and all points in between.  With top dealers selling in-demand specialties\, Elora is the premier vintage/antique event in Western Ontario. \nVisit antiqueshowscanada.com to learn more.
URL:https://grandandgorgeous.com/event/the-elora-vintage-and-antique-show/
CATEGORIES:Arts & Entertainment,Community,experience,History,Local Business,Shopping
ATTACH;FMTTYPE=image/png:https://grandandgorgeous.com/wp-content/uploads/ANTIQUES-LOGO.png
END:VEVENT
END:VCALENDAR